BEGIN:VCALENDAR
VERSION:2.0
PRODID:-//Xavier College Preparatory Dads&#039; Club | Phoenix, Arizona - ECPv6.15.13//NONSGML v1.0//EN
CALSCALE:GREGORIAN
METHOD:PUBLISH
X-ORIGINAL-URL:https://www.xcpdadsclub.org
X-WR-CALDESC:Events for Xavier College Preparatory Dads&#039; Club | Phoenix, Arizona
REFRESH-INTERVAL;VALUE=DURATION:PT1H
X-Robots-Tag:noindex
X-PUBLISHED-TTL:PT1H
BEGIN:VTIMEZONE
TZID:America/Phoenix
BEGIN:STANDARD
TZOFFSETFROM:-0700
TZOFFSETTO:-0700
TZNAME:MST
DTSTART:20250101T000000
END:STANDARD
END:VTIMEZONE
BEGIN:VEVENT
DTSTART;TZID=America/Phoenix:20260303T173000
DTEND;TZID=America/Phoenix:20260303T190000
DTSTAMP:20260423T114315
CREATED:20211006T071013Z
LAST-MODIFIED:20250804T190644Z
UID:26498-1772559000-1772564400@www.xcpdadsclub.org
SUMMARY:March Dads' Club Meeting
DESCRIPTION:
URL:https://www.xcpdadsclub.org/event/mar-dads-club-meeting/
LOCATION:XCP – Founders Hall\, 4710 N 5th St\, Phoenix\, AZ\, 85012\, United States
ATTACH;FMTTYPE=image/png:https://www.xcpdadsclub.org/wp-content/uploads/2021/09/meeting3.png
END:VEVENT
BEGIN:VEVENT
DTSTART;VALUE=DATE:20260313
DTEND;VALUE=DATE:20260314
DTSTAMP:20260423T114315
CREATED:20220823T063519Z
LAST-MODIFIED:20250917T040302Z
UID:26683-1773360000-1773446399@www.xcpdadsclub.org
SUMMARY:Heather Farr Memorial Golf Tournament (2026)
DESCRIPTION:Golf at Papago Golf Club – ASU Gold Course\n\nAbout Heather Farr\nHeather Farr (Xavier ’82) was a champion in every sense. A fourth generation Arizona native born in 1965\, she excelled in golf at an early age. At 13\, she won her first of nine Arizona State Women’s Amateur and Arizona Match Play Championships. At 14\, she played in her first LPGA event. At 16\, she was low amateur and finished 11th overall in the Women’s US Open. Graduating from Xavier in just three years\, she never tied or lost a high school match or state championship. \nHeather Farr attended Arizona State University on a scholarship. She left college after three years to join the LPGA Tour at age 20\, the youngest ever at that time. At 24\, she was diagnosed with breast cancer and in 1993 at the age of 28 lost her battle with cancer. \nHeather Farr never met a person she didn’t befriend. Her high energy\, enthusiasm and passion for life inspired those who knew or knew of her. She will be remembered for her talent\, her accomplishments\, her sweet swing and her demeanor on and off the golf course. \n\nThe Heather Farr Memorial Golf Tournament is the Xavier Dads’ Club’s only fundraiser of the year. Your participation helps support the Xavier Dads’ Club and Xavier College Prep. It also provides a great tax deduction and an excellent opportunity to promote your business. \nEvent Details: \n\nDate & Time: Friday – March 13\, 2026 (shotgun start at 8:30 AM)\nLocation: Papago Golf Club\, 5595 East Karsten Way\, Phoenix\, AZ 85008\nCost: Varies (see the event site for details)\n\nEven if you can’t join us\, be sure to enter the raffle for a chance to win fabulous prizes. You do not need to be present to win! \nSponsorship Opportunities: \n\nBig Gator Sponsor\nFounder Sponsor\nBeverage Cart / Station Sponsor\nLunch Sponsor\nClosest to the Pin Sponsor\nAfter Party Sponsor\n$1\,000\,000 Hole-In-One Sponsor\nGolf Ball Sponsor\nRegistration Sponsor\nCar Hole-In-One Sponsor\nHat Sponsor\nTraveling Trophy Sponsor\n\nFor more information on sponsorships\, please visit Sponsorship Opportunities. \nThis event is the best way to raise the funds for the Dads’ Club. The Xavier Dads’ Club is a 501c3 non-profit. All donations are tax deductible (consult your tax advisor). \n\nFor any questions\, please contact: \n\nMarty Teevan: (917) 583 – 3298 – marty@sheehanfinance.com\n\nWe look forward to a fantastic day on the greens and appreciate your support for this important event!
URL:https://www.xcpdadsclub.org/event/heather-farr-memorial-golf-tournament/
LOCATION:Papago Golf Club\, 5595 E Karsten Wy\, Phoenix\, AZ\, 85008\, United States
ATTACH;FMTTYPE=image/jpeg:https://www.xcpdadsclub.org/wp-content/uploads/2021/09/HeatherFarr.jpeg
END:VEVENT
END:VCALENDAR