BEGIN:VCALENDAR
VERSION:2.0
PRODID:-//Xavier College Preparatory Dads&#039; Club | Phoenix, Arizona - ECPv6.15.13//NONSGML v1.0//EN
CALSCALE:GREGORIAN
METHOD:PUBLISH
X-WR-CALNAME:Xavier College Preparatory Dads&#039; Club | Phoenix, Arizona
X-ORIGINAL-URL:https://www.xcpdadsclub.org
X-WR-CALDESC:Events for Xavier College Preparatory Dads&#039; Club | Phoenix, Arizona
REFRESH-INTERVAL;VALUE=DURATION:PT1H
X-Robots-Tag:noindex
X-PUBLISHED-TTL:PT1H
BEGIN:VTIMEZONE
TZID:America/Phoenix
BEGIN:STANDARD
TZOFFSETFROM:-0700
TZOFFSETTO:-0700
TZNAME:MST
DTSTART:20250101T000000
END:STANDARD
END:VTIMEZONE
BEGIN:VTIMEZONE
TZID:UTC
BEGIN:STANDARD
TZOFFSETFROM:+0000
TZOFFSETTO:+0000
TZNAME:UTC
DTSTART:20250101T000000
END:STANDARD
END:VTIMEZONE
BEGIN:VEVENT
DTSTART;TZID=America/Phoenix:20260203T173000
DTEND;TZID=America/Phoenix:20260203T190000
DTSTAMP:20260423T135508
CREATED:20211006T070956Z
LAST-MODIFIED:20250804T191158Z
UID:26496-1770139800-1770145200@www.xcpdadsclub.org
SUMMARY:February Dads' Club Meeting
DESCRIPTION:
URL:https://www.xcpdadsclub.org/event/feb-dads-club-meeting/
LOCATION:XCP – Lutfy Hall\, 4710 N 5th St\, Phoenix\, AZ\, 85012\, United States
ATTACH;FMTTYPE=image/png:https://www.xcpdadsclub.org/wp-content/uploads/2021/09/meeting3.png
END:VEVENT
BEGIN:VEVENT
DTSTART;TZID=UTC:20260221T183000
DTEND;TZID=UTC:20260221T213000
DTSTAMP:20260423T135508
CREATED:20230524T053056Z
LAST-MODIFIED:20260207T045102Z
UID:27022-1771698600-1771709400@www.xcpdadsclub.org
SUMMARY:Father-Daughter XCP Open (2026)
DESCRIPTION:2026 Father-Daughter Xavier Open “Get Your Game On!” \n \n \n \n\n2026 Restaurants offering discounts\n2026 What to wear\n\nWe’re excited to invite you and your daughter to the 2026 Xavier Dads’ Club “Xavier Open”. This one-of-a-kind event will include pickleball\, miniature golf\, festival games\, ceramic crafts\, jewelry making\, music with a DJ\, fabulous raffle prizes\, and food trucks. Wear your best Country Club attire and be ready for a night of fun and games! \nEvent Highlights: \n\nDate & Time: February 21\, 2026\, from 6:30 PM to 9:30 PM\nLocation: Nuckols Founders Hall at Xavier College Preparatory – 4710 North 5th Street\, Phoenix\, AZ 85012\nCost: $35 per person (includes all activities\, food\, and entertainment)\nRaffle Tickets: $25 / each\, (5) for $100\n\nPrizes this year already include; (4) Bruno Mars concert tickets in April\, (4) Ed Sheeran concert tickets in June\, a foursome for golf at Phoenix Country Club\, retail store gift certificates\, salon gift packages\, teeth whitening\, entertainment packages\, restaurant gift cards\, Xavier Mothers’ Guild swag bag\, and a whole bunch more! \nDon’t miss out. Join us for an unforgettable evening featuring games of skill and cool prizes. This year’s event is on track to be the largest event the Dads’ Club has ever hosted. Bring your daughter\, invite her friends and bring their dads to join in the fun! \nFor any questions\, please contact the event chair: \n\nDick Crowley: 602.550.5685 dcrowley146@gmail.com\n\nWe can’t wait to see you and your daughter for a night full of fun\, laughter\, and memories! \n \n \n \n\n2026 Restaurants offering discounts\n2026 What to wear
URL:https://www.xcpdadsclub.org/event/father-daughter-event/
ATTACH;FMTTYPE=image/png:https://www.xcpdadsclub.org/wp-content/uploads/2026/01/xcp-open.png
END:VEVENT
END:VCALENDAR