BEGIN:VCALENDAR
VERSION:2.0
PRODID:-//Xavier College Preparatory Dads&#039; Club | Phoenix, Arizona - ECPv6.15.13//NONSGML v1.0//EN
CALSCALE:GREGORIAN
METHOD:PUBLISH
X-ORIGINAL-URL:https://www.xcpdadsclub.org
X-WR-CALDESC:Events for Xavier College Preparatory Dads&#039; Club | Phoenix, Arizona
REFRESH-INTERVAL;VALUE=DURATION:PT1H
X-Robots-Tag:noindex
X-PUBLISHED-TTL:PT1H
BEGIN:VTIMEZONE
TZID:America/Phoenix
BEGIN:STANDARD
TZOFFSETFROM:-0700
TZOFFSETTO:-0700
TZNAME:MST
DTSTART:20240101T000000
END:STANDARD
END:VTIMEZONE
BEGIN:VTIMEZONE
TZID:UTC
BEGIN:STANDARD
TZOFFSETFROM:+0000
TZOFFSETTO:+0000
TZNAME:UTC
DTSTART:20240101T000000
END:STANDARD
END:VTIMEZONE
BEGIN:VEVENT
DTSTART;TZID=America/Phoenix:20251104T173000
DTEND;TZID=America/Phoenix:20251104T190000
DTSTAMP:20260423T190058
CREATED:20220811T065132Z
LAST-MODIFIED:20250624T032751Z
UID:26761-1762277400-1762282800@www.xcpdadsclub.org
SUMMARY:November Dads' Club Meeting
DESCRIPTION:
URL:https://www.xcpdadsclub.org/event/nov-dads-club-meeting/
LOCATION:XCP – Lutfy Hall\, 4710 N 5th St\, Phoenix\, AZ\, 85012\, United States
ATTACH;FMTTYPE=image/png:https://www.xcpdadsclub.org/wp-content/uploads/2021/09/meeting3.png
END:VEVENT
BEGIN:VEVENT
DTSTART;TZID=UTC:20251108T093000
DTEND;TZID=UTC:20251108T150000
DTSTAMP:20260423T190058
CREATED:20250609T062227Z
LAST-MODIFIED:20250805T042235Z
UID:27395-1762594200-1762614000@www.xcpdadsclub.org
SUMMARY:Father-Daughter Pickleball (2025)
DESCRIPTION:Battle of the Paddles Dads’ Club – Father Daughter 4th Annual Pickleball Tournament \n \nWe are excited to invite you and your daughter to the 4th Annual “Battle of the Paddles” Dads’ Club Father-Daughter Pickleball Tournament on November 8\, 2025. This fun-filled event will take place at Xavier College Preparatory\, Tennis Courts\, located at 4710 North 5th Street\, Phoenix\, AZ 85012 \nEvent Details:\nDate & Time: Saturday November 08\, 2025 \n\nMorning Tournament: 9:30 AM to Noon\nAfternoon Tournament: 12:30 PM to 3:00 PM\nLocation: Xavier College Preparatory\, Tennis Courts\, 4710 North 5th Street\, Phoenix\, AZ 85012\nCost: $25 per person (includes food\, drinks\, music\, paddles\, and raffle prizes)\n\nCome early and stay late! No experience is needed\, and we’ll provide everything you need\, including paddles and Cornhole. Dad and daughter teams will play double elimination\, but everyone is encouraged to come cheer on the participants and enjoy a day in the sun. Feel free to bring your own paddle if you prefer. \nThere will be food\, drinks\, music\, and exciting raffle prizes throughout the day. It’s a fantastic opportunity to bond with your daughter and connect with other dads and their daughters. \nIf you have any questions\, please contact the event chairs: \n\nPaul Shoen: 503.481.4300\, paulshoen@yahoo.com\nJim Knapp: 602.501.0703\, jim.knapp@outlook.com\nDan Blue: 602.677.5339\, dbluedds@gmail.com\n\nWe look forward to seeing you on the courts for a day of fun and friendly competition!
URL:https://www.xcpdadsclub.org/event/pickleball/
ATTACH;FMTTYPE=image/jpeg:https://www.xcpdadsclub.org/wp-content/uploads/2023/08/pickleball.jpg
END:VEVENT
END:VCALENDAR