BEGIN:VCALENDAR
VERSION:2.0
PRODID:-//Xavier College Preparatory Dads&#039; Club | Phoenix, Arizona - ECPv6.15.13//NONSGML v1.0//EN
CALSCALE:GREGORIAN
METHOD:PUBLISH
X-WR-CALNAME:Xavier College Preparatory Dads&#039; Club | Phoenix, Arizona
X-ORIGINAL-URL:https://www.xcpdadsclub.org
X-WR-CALDESC:Events for Xavier College Preparatory Dads&#039; Club | Phoenix, Arizona
REFRESH-INTERVAL;VALUE=DURATION:PT1H
X-Robots-Tag:noindex
X-PUBLISHED-TTL:PT1H
BEGIN:VTIMEZONE
TZID:America/Phoenix
BEGIN:STANDARD
TZOFFSETFROM:-0700
TZOFFSETTO:-0700
TZNAME:MST
DTSTART:20240101T000000
END:STANDARD
END:VTIMEZONE
BEGIN:VTIMEZONE
TZID:UTC
BEGIN:STANDARD
TZOFFSETFROM:+0000
TZOFFSETTO:+0000
TZNAME:UTC
DTSTART:20240101T000000
END:STANDARD
END:VTIMEZONE
BEGIN:VEVENT
DTSTART;TZID=America/Phoenix:20251007T173000
DTEND;TZID=America/Phoenix:20251007T190000
DTSTAMP:20260423T203920
CREATED:20220811T063540Z
LAST-MODIFIED:20250624T032718Z
UID:26757-1759858200-1759863600@www.xcpdadsclub.org
SUMMARY:October Dads' Club Meeting
DESCRIPTION:
URL:https://www.xcpdadsclub.org/event/oct-dads-club-meeting/
LOCATION:XCP – Founders Hall\, 4710 N 5th St\, Phoenix\, AZ\, 85012\, United States
ATTACH;FMTTYPE=image/png:https://www.xcpdadsclub.org/wp-content/uploads/2021/09/meeting3.png
END:VEVENT
BEGIN:VEVENT
DTSTART;TZID=UTC:20251018T083000
DTEND;TZID=UTC:20251018T120000
DTSTAMP:20260423T203920
CREATED:20230524T052800Z
LAST-MODIFIED:20251009T032025Z
UID:27016-1760776200-1760788800@www.xcpdadsclub.org
SUMMARY:Father-Daughter Mass (2025)
DESCRIPTION:Dads’ Club – Father Daughter Mass & Breakfast \n \nWe are thrilled to invite you and your daughter to the Dads’ Club Father-Daughter Mass & Breakfast on Saturday October 18\, 2025. Mass will be celebrated by Father Elario Zambakari with the Xavier Choir at 9:30 AM but this special event will take place from 8:30 AM to 12:00 PM at Xavier College Preparatory\, Chapel & Founders Hall\, located at 4710 North 5th Street\, Phoenix\, AZ 85012. Arrive early to avoid the lines. A professional photographer will take Father/Daughter pictures before Mass. \nEvent Details: \n\nDate & Time: Saturday October 18\, 2025\, from 8:30 AM to 12:00 PM\nLocation: Xavier College Preparatory\, Chapel & Founders Hall\, 4710 North 5th Street\, Phoenix\, AZ 85012\nCost: $28 per person (includes breakfast\, a Father-Daughter picture\, and raffle prizes)\n\nPlease join us for a special Sunday Mass celebrated in Xavier’s Chapel of Our Lady. \nAfter Mass\, we will gather in Founders Hall for breakfast. Bob Hubbard and Ann Marie Sunderhaus – XCP ’95 will share their journey since graduation and how Xavier has influenced their lives. A professional picture will be taken with each Father and Daughter before Mass\, so Sunday Mass attire is appropriate. There will also be exciting raffle prizes! \nIf you have any questions\, please contact the event chairs: \n\nChristopher Barta: 623.208.9599\, 19dcb71@gmail.com\n\nWe look forward to celebrating this special day with you and your daughter!
URL:https://www.xcpdadsclub.org/event/father-daughter-mass/
ATTACH;FMTTYPE=image/jpeg:https://www.xcpdadsclub.org/wp-content/uploads/2023/08/mass.jpg
END:VEVENT
END:VCALENDAR