BEGIN:VCALENDAR
VERSION:2.0
PRODID:-//Xavier College Preparatory Dads&#039; Club | Phoenix, Arizona - ECPv6.15.13//NONSGML v1.0//EN
CALSCALE:GREGORIAN
METHOD:PUBLISH
X-ORIGINAL-URL:https://www.xcpdadsclub.org
X-WR-CALDESC:Events for Xavier College Preparatory Dads&#039; Club | Phoenix, Arizona
REFRESH-INTERVAL;VALUE=DURATION:PT1H
X-Robots-Tag:noindex
X-PUBLISHED-TTL:PT1H
BEGIN:VTIMEZONE
TZID:UTC
BEGIN:STANDARD
TZOFFSETFROM:+0000
TZOFFSETTO:+0000
TZNAME:UTC
DTSTART:20240101T000000
END:STANDARD
END:VTIMEZONE
BEGIN:VEVENT
DTSTART;TZID=UTC:20250407T170000
DTEND;TZID=UTC:20250407T200000
DTSTAMP:20260424T061215
CREATED:20240902T032220Z
LAST-MODIFIED:20240902T032220Z
UID:27463-1744045200-1744056000@www.xcpdadsclub.org
SUMMARY:Ronald McDonald House Dinnertime Hero's
DESCRIPTION:Attention All Dads and Daughters \nDon’t pass on this amazing opportunity to make a difference in our community\, spend time with your daughter\, and help her earn double service hours in the process. \nLocation:\n501 East Roanoke Avenue\nPhoenix\, Arizona 85004 \nTime:\n5pm-8pm \nFor any questions\, please contact the event chair: Ruben Marquina: rm_one@msn.com
URL:https://www.xcpdadsclub.org/event/ronald-mcdonald-house-dinnertime-heros-8/
END:VEVENT
END:VCALENDAR