BEGIN:VCALENDAR
VERSION:2.0
PRODID:-//Xavier College Preparatory Dads&#039; Club | Phoenix, Arizona - ECPv6.15.13//NONSGML v1.0//EN
CALSCALE:GREGORIAN
METHOD:PUBLISH
X-ORIGINAL-URL:https://www.xcpdadsclub.org
X-WR-CALDESC:Events for Xavier College Preparatory Dads&#039; Club | Phoenix, Arizona
REFRESH-INTERVAL;VALUE=DURATION:PT1H
X-Robots-Tag:noindex
X-PUBLISHED-TTL:PT1H
BEGIN:VTIMEZONE
TZID:UTC
BEGIN:STANDARD
TZOFFSETFROM:+0000
TZOFFSETTO:+0000
TZNAME:UTC
DTSTART:20200101T000000
END:STANDARD
END:VTIMEZONE
BEGIN:VEVENT
DTSTART;TZID=UTC:20210923T080000
DTEND;TZID=UTC:20210923T090000
DTSTAMP:20260423T184032
CREATED:20211006T064826Z
LAST-MODIFIED:20211006T065127Z
UID:26471-1632384000-1632387600@www.xcpdadsclub.org
SUMMARY:X Breakfast
DESCRIPTION:
URL:https://www.xcpdadsclub.org/event/x-breakfast/
LOCATION:Xavier College Prep\, 4710 N 5th St\, Phoenix\, AZ\, 85012\, United States
ATTACH;FMTTYPE=image/jpeg:https://www.xcpdadsclub.org/wp-content/uploads/2021/10/card-image-campus-2.jpg
END:VEVENT
END:VCALENDAR