BEGIN:VCALENDAR
VERSION:2.0
PRODID:-//Xavier College Preparatory Dads&#039; Club | Phoenix, Arizona - ECPv6.15.13//NONSGML v1.0//EN
CALSCALE:GREGORIAN
METHOD:PUBLISH
X-WR-CALNAME:Xavier College Preparatory Dads&#039; Club | Phoenix, Arizona
X-ORIGINAL-URL:https://www.xcpdadsclub.org
X-WR-CALDESC:Events for Xavier College Preparatory Dads&#039; Club | Phoenix, Arizona
REFRESH-INTERVAL;VALUE=DURATION:PT1H
X-Robots-Tag:noindex
X-PUBLISHED-TTL:PT1H
BEGIN:VTIMEZONE
TZID:America/Phoenix
BEGIN:STANDARD
TZOFFSETFROM:-0700
TZOFFSETTO:-0700
TZNAME:MST
DTSTART:20250101T000000
END:STANDARD
END:VTIMEZONE
BEGIN:VEVENT
DTSTART;TZID=America/Phoenix:20260505T173000
DTEND;TZID=America/Phoenix:20260505T190000
DTSTAMP:20260423T074832
CREATED:20220823T062925Z
LAST-MODIFIED:20250624T033046Z
UID:26802-1778002200-1778007600@www.xcpdadsclub.org
SUMMARY:May Dads' Club Meeting
DESCRIPTION:
URL:https://www.xcpdadsclub.org/event/may-dads-club-meeting/
LOCATION:XCP – Lutfy Hall\, 4710 N 5th St\, Phoenix\, AZ\, 85012\, United States
ATTACH;FMTTYPE=image/png:https://www.xcpdadsclub.org/wp-content/uploads/2021/09/meeting3.png
END:VEVENT
END:VCALENDAR